BEGIN:VCALENDAR
VERSION:2.0
PRODID:-//Santosha - ECPv6.10.2//NONSGML v1.0//EN
CALSCALE:GREGORIAN
METHOD:PUBLISH
X-ORIGINAL-URL:https://www.santosha-berlin.com
X-WR-CALDESC:Events for Santosha
REFRESH-INTERVAL;VALUE=DURATION:PT1H
X-Robots-Tag:noindex
X-PUBLISHED-TTL:PT1H
BEGIN:VTIMEZONE
TZID:Europe/Berlin
BEGIN:DAYLIGHT
TZOFFSETFROM:+0100
TZOFFSETTO:+0200
TZNAME:CEST
DTSTART:20200329T010000
END:DAYLIGHT
BEGIN:STANDARD
TZOFFSETFROM:+0200
TZOFFSETTO:+0100
TZNAME:CET
DTSTART:20201025T010000
END:STANDARD
END:VTIMEZONE
BEGIN:VEVENT
DTSTART;TZID=Europe/Berlin:20200712T170000
DTEND;TZID=Europe/Berlin:20200712T180000
DTSTAMP:20260422T115833
CREATED:20200707T102602Z
LAST-MODIFIED:20200707T102602Z
UID:14173-1594573200-1594576800@www.santosha-berlin.com
SUMMARY:Outdoor Yoga
DESCRIPTION:@ Invalidenpark
URL:https://www.santosha-berlin.com/event/outdoor-yoga/
END:VEVENT
END:VCALENDAR